BEGIN:VCALENDAR
VERSION:2.0
PRODID:-//Kalkaska County Sand and Snow - ECPv6.15.20//NONSGML v1.0//EN
CALSCALE:GREGORIAN
METHOD:PUBLISH
X-ORIGINAL-URL:https://kalkaskacountysandandsnow.org
X-WR-CALDESC:Events for Kalkaska County Sand and Snow
REFRESH-INTERVAL;VALUE=DURATION:PT1H
X-Robots-Tag:noindex
X-PUBLISHED-TTL:PT1H
BEGIN:VTIMEZONE
TZID:America/New_York
BEGIN:DAYLIGHT
TZOFFSETFROM:-0500
TZOFFSETTO:-0400
TZNAME:EDT
DTSTART:20240310T070000
END:DAYLIGHT
BEGIN:STANDARD
TZOFFSETFROM:-0400
TZOFFSETTO:-0500
TZNAME:EST
DTSTART:20241103T060000
END:STANDARD
BEGIN:DAYLIGHT
TZOFFSETFROM:-0500
TZOFFSETTO:-0400
TZNAME:EDT
DTSTART:20250309T070000
END:DAYLIGHT
BEGIN:STANDARD
TZOFFSETFROM:-0400
TZOFFSETTO:-0500
TZNAME:EST
DTSTART:20251102T060000
END:STANDARD
BEGIN:DAYLIGHT
TZOFFSETFROM:-0500
TZOFFSETTO:-0400
TZNAME:EDT
DTSTART:20260308T070000
END:DAYLIGHT
BEGIN:STANDARD
TZOFFSETFROM:-0400
TZOFFSETTO:-0500
TZNAME:EST
DTSTART:20261101T060000
END:STANDARD
END:VTIMEZONE
BEGIN:VEVENT
DTSTART;VALUE=DATE:20251213
DTEND;VALUE=DATE:20251214
DTSTAMP:20260425T203801
CREATED:20250808T121504Z
LAST-MODIFIED:20250808T121618Z
UID:15459-1765584000-1765670399@kalkaskacountysandandsnow.org
SUMMARY:Christmas Club Meeting
DESCRIPTION:Details coming soon
URL:https://kalkaskacountysandandsnow.org/event/christmas-club-meeting/
LOCATION:Blue Lake Township Hall\, 10599 Twin Lake Road NE\, Mancelona\, MI\, 49659\, United States
CATEGORIES:Meeting
ATTACH;FMTTYPE=image/jpeg:https://kalkaskacountysandandsnow.org/wp-content/uploads/2024/09/club-meeting.jpeg
END:VEVENT
END:VCALENDAR