BEGIN:VCALENDAR
VERSION:2.0
PRODID:-//Kalkaska County Sand and Snow - ECPv6.15.18//NONSGML v1.0//EN
CALSCALE:GREGORIAN
METHOD:PUBLISH
X-ORIGINAL-URL:https://kalkaskacountysandandsnow.org
X-WR-CALDESC:Events for Kalkaska County Sand and Snow
REFRESH-INTERVAL;VALUE=DURATION:PT1H
X-Robots-Tag:noindex
X-PUBLISHED-TTL:PT1H
BEGIN:VTIMEZONE
TZID:America/New_York
BEGIN:DAYLIGHT
TZOFFSETFROM:-0500
TZOFFSETTO:-0400
TZNAME:EDT
DTSTART:20240310T070000
END:DAYLIGHT
BEGIN:STANDARD
TZOFFSETFROM:-0400
TZOFFSETTO:-0500
TZNAME:EST
DTSTART:20241103T060000
END:STANDARD
BEGIN:DAYLIGHT
TZOFFSETFROM:-0500
TZOFFSETTO:-0400
TZNAME:EDT
DTSTART:20250309T070000
END:DAYLIGHT
BEGIN:STANDARD
TZOFFSETFROM:-0400
TZOFFSETTO:-0500
TZNAME:EST
DTSTART:20251102T060000
END:STANDARD
BEGIN:DAYLIGHT
TZOFFSETFROM:-0500
TZOFFSETTO:-0400
TZNAME:EDT
DTSTART:20260308T070000
END:DAYLIGHT
BEGIN:STANDARD
TZOFFSETFROM:-0400
TZOFFSETTO:-0500
TZNAME:EST
DTSTART:20261101T060000
END:STANDARD
BEGIN:DAYLIGHT
TZOFFSETFROM:-0500
TZOFFSETTO:-0400
TZNAME:EDT
DTSTART:20270314T070000
END:DAYLIGHT
BEGIN:STANDARD
TZOFFSETFROM:-0400
TZOFFSETTO:-0500
TZNAME:EST
DTSTART:20271107T060000
END:STANDARD
END:VTIMEZONE
BEGIN:VEVENT
DTSTART;TZID=America/New_York:20260117T090000
DTEND;TZID=America/New_York:20260117T130000
DTSTAMP:20260422T104141
CREATED:20260101T204859Z
LAST-MODIFIED:20260108T164810Z
UID:15583-1768640400-1768654800@kalkaskacountysandandsnow.org
SUMMARY:Club Meeting and Trail Stop
DESCRIPTION:Club Meeting 9:00 Blue Lake Township Hall- Trail Stop to follow 11-3 Starvation Lake Corner Store
URL:https://kalkaskacountysandandsnow.org/event/club-meeting-and-ride-2/
LOCATION:Blue Lake Township Hall\, 10599 Twin Lake Road NE\, Mancelona\, MI\, 49659\, United States
CATEGORIES:Club Ride,Meeting
ATTACH;FMTTYPE=image/jpeg:https://kalkaskacountysandandsnow.org/wp-content/uploads/2021/08/IMG_0705.jpg
END:VEVENT
BEGIN:VEVENT
DTSTART;VALUE=DATE:20250927
DTEND;VALUE=DATE:20250928
DTSTAMP:20260422T104141
CREATED:20250729T163443Z
LAST-MODIFIED:20250818T221153Z
UID:15441-1758931200-1759017599@kalkaskacountysandandsnow.org
SUMMARY:ORV Dice Run
DESCRIPTION:A Dice Run – Like a Fun Run only different. You will be provided with multiple stops to pick from at registration. Take a selfie at each location\, be back by 4:00 for us to check your pictures and roll the dice for every stop.  Person with the highest rolls wins! \nTickets are:\n$40 per person (18+ only please)\n$30 for dinner only\n12 & under free \nPlease RSVP\n	Please enable JavaScript in your browser to complete this form.Name *FirstLastEmail *PhonePlease let us know how many will attend\nFun Run with Dinner ($40 per person)012345678910Dinner Only ($30 per person)012345678910RSVP Today
URL:https://kalkaskacountysandandsnow.org/event/dice-run/
LOCATION:Blue Lake Township Hall\, 10599 Twin Lake Road NE\, Mancelona\, MI\, 49659\, United States
CATEGORIES:Club Ride,fundraiser
ATTACH;FMTTYPE=image/png:https://kalkaskacountysandandsnow.org/wp-content/uploads/2025/07/Fall-Dice-Run.png
END:VEVENT
BEGIN:VEVENT
DTSTART;TZID=America/New_York:20250830T100000
DTEND;TZID=America/New_York:20250830T140000
DTSTAMP:20260422T104141
CREATED:20250729T162719Z
LAST-MODIFIED:20250808T112035Z
UID:15435-1756548000-1756562400@kalkaskacountysandandsnow.org
SUMMARY:Trail Stop
DESCRIPTION:Trail stop at Bear Lake Marathon 10am-2pm.
URL:https://kalkaskacountysandandsnow.org/event/trail-stop/
LOCATION:Bear Lakes Marathon\, 10755 M-72 SE\, Kalkaska\, MI\, 49646
CATEGORIES:Club Ride
ATTACH;FMTTYPE=image/jpeg:https://kalkaskacountysandandsnow.org/wp-content/uploads/2025/07/TrailStop.jpg
END:VEVENT
BEGIN:VEVENT
DTSTART;TZID=America/New_York:20250816T090000
DTEND;TZID=America/New_York:20250816T150000
DTSTAMP:20260422T104141
CREATED:20250729T161958Z
LAST-MODIFIED:20250808T111843Z
UID:15430-1755334800-1755356400@kalkaskacountysandandsnow.org
SUMMARY:Club Meeting and Ride
DESCRIPTION:We have a club meeting and ride on August 16\, meeting at 9 at the Township Hall\, Ride for lunch after. Bring a dish to pass\, hot dogs will be provided.
URL:https://kalkaskacountysandandsnow.org/event/club-meeting-and-ride/
LOCATION:Blue Lake Township Hall\, 10599 Twin Lake Road NE\, Mancelona\, MI\, 49659\, United States
CATEGORIES:Club Ride,Meeting
ATTACH;FMTTYPE=image/jpeg:https://kalkaskacountysandandsnow.org/wp-content/uploads/2025/07/TrailRide.jpg
END:VEVENT
BEGIN:VEVENT
DTSTART;TZID=America/New_York:20250510T100000
DTEND;TZID=America/New_York:20250510T150000
DTSTAMP:20260422T104141
CREATED:20250404T010404Z
LAST-MODIFIED:20250412T201044Z
UID:15339-1746871200-1746889200@kalkaskacountysandandsnow.org
SUMMARY:Veterans Ride
DESCRIPTION:We want to show our vets our appreciation for their service.  Come join us for the ride and take a vet along with you.  Wear your red\, white and blue. Decorate your side by side. \nCost: $15 per rider.  Veterans ride free. Lunch is provided. \nPlease RSVP today! \nPlease enable JavaScript in your browser to complete this form.Name *FirstLastEmail *PhoneHow many people are you RSVP'ing for?012345678910Are you able to take a vet with you?Please select oneYesNoRSVP Today
URL:https://kalkaskacountysandandsnow.org/event/veterans-ride/
LOCATION:Blue Lake Township Hall\, 10599 Twin Lake Road NE\, Mancelona\, MI\, 49659\, United States
CATEGORIES:Club Ride
ATTACH;FMTTYPE=image/png:https://kalkaskacountysandandsnow.org/wp-content/uploads/2025/04/Veterans-Ride-Feature.png
END:VEVENT
END:VCALENDAR